Workbook
Name Hidden_13: Hidden_1!$A$1:$A$11
Name Hidden_211: Hidden_2!$A$1:$A$2

Sheet Reporte de Formatos
A1: 44369
A2: TÍTULO | D2: NOMBRE CORTO | G2: DESCRIPCIÓN
A3: Remuneraciones brutas y netas de todas las personas servidoras públicas de base y de confianza | D3: N_F8_LTAIPEC_Art74FrVIII | G3: La información relativa a la remuneración mensual bruta y neta de conformidad con el tabulador de sueldos y salarios aplicable a cada sujeto obligado, así como todos los conceptos que sean adicionales y distintos a las remuneraciones, especificando la periodicidad con que se otorga cada uno de éstos (quincenal, mensual, semestral, anual, por única ocasión, etcétera)
A4: 1 | B4: 4 | C4: 4 | D4: 9 | E4: 1 | F4: 2 | G4: 2 | H4: 2 | I4: 1 | J4: 1 | K4: 1 | L4: 9 | M4: 6 | N4: 1 | O4: 6 | P4: 1 | Q4: 10 | R4: 10 | S4: 10 | T4: 10 | U4: 10 | V4: 10 | W4: 10 | X4: 10 | Y4: 10 | Z4: 10 | AA4: 10 | AB4: 10 | AC4: 10 | AD4: 2 | AE4: 13 | AF4: 14
A5: 352956 | B5: 352969 | C5: 352948 | D5: 352970 | E5: 352971 | F5: 352951 | G5: 352957 | H5: 352958 | I5: 352959 | J5: 352952 | K5: 352949 | L5: 570148 | M5: 352972 | N5: 352973 | O5: 352961 | P5: 352950 | Q5: 352976 | R5: 352962 | S5: 352977 | T5: 352946 | U5: 352966 | V5: 352953 | W5: 352963 | X5: 352954 | Y5: 352955 | Z5: 352974 | AA5: 352978 | AB5: 352975 | AC5: 352979 | AD5: 352964 | AE5: 352967 | AF5: 352947
A6: Tabla Campos
A7: Ejercicio | B7: Fecha de inicio del periodo que se informa | C7: Fecha de término del periodo que se informa | D7: Tipo de integrante del sujeto obligado (catálogo) | E7: Clave o nivel del puesto | F7: Denominación o descripción del puesto (Redactados con perspectiva de género) | G7: Denominación del cargo (de conformidad con el nombramiento otorgado) | H7: Área de adscripción | I7: Nombre (s) | J7: Primer apellido | K7: Segundo apellido | L7: ESTE CRITERIO APLICA A PARTIR DEL 01/01/2023 -> Sexo (catálogo ) | M7: Monto de la remuneración mensual bruta, de conformidad al Tabulador de sueldos y salarios que corresponda | N7: Tipo de moneda de la remuneración mensual bruta | O7: Monto de la remuneración mensual neta, de conformidad al Tabulador de sueldos y salarios que corresponda | P7: Tipo de moneda de la remuneración mensual neta | Q7: Percepciones adicionales en dinero, Monto bruto y neto, tipo de moneda y su periodicidad Tabla_352976 | R7: Percepciones adicionales en especie y su periodicidad Tabla_352962 | S7: Ingresos, monto bruto y neto, tipo de moneda y su periodicidad Tabla_352977 | T7: Sistemas de compensación, monto bruto y neto, tipo de moneda y su periodicidad Tabla_352946 | U7: Gratificaciones, monto bruto y neto, tipo de moneda y su periodicidad Tabla_352966 | V7: Primas, monto bruto y neto, tipo de moneda y su periodicidad Tabla_352953 | W7: Comisiones, monto bruto y neto, tipo de moneda y su periodicidad Tabla_352963 | X7: Dietas, monto bruto y neto, tipo de moneda y su periodicidad Tabla_352954 | Y7: Bonos, monto bruto y neto, tipo de moneda y su periodicidad Tabla_352955 | Z7: Estímulos, monto bruto y neto, tipo de moneda y su periodicidad Tabla_352974 | AA7: Apoyos económicos, monto bruto y neto, tipo de moneda y su periodicidad Tabla_352978 | AB7: Prestaciones económicas, monto bruto y neto, tipo de moneda y su periodicidad Tabla_352975 | AC7: Prestaciones en especie y su periodicidad Tabla_352979 | AD7: Área(s) responsable(s) que genera(n), posee(n), publica(n) y actualizan la información | AE7: Fecha de Actualización | AF7: Nota
A8: 2025 | B8: 45658 | C8: 45747 | D8: Persona servidora pública | E8: 2.1 | F8: Director General | G8: Director General | H8: Dirección General | I8: Raul Eduardo | J8: Sales | K8: Heredia | L8: Hombre | M8: =64025.88+2751.88 -> 66777.76 | N8: PESOS | O8: 41938.88 | P8: PESOS | Q8: =Tabla_352976!A13 -> 0 | R8: 1 | S8: =Tabla_352977!A4 -> 1 | T8: =Tabla_352946!A4 -> 0 | U8: 1 | V8: =Tabla_352953!A24 -> 0 | W8: =Tabla_352963!A4 -> 0 | X8: =Tabla_352954!A4 -> 0 | Y8: =Tabla_352955!A5 -> 2 | Z8: =Tabla_352974!A8 -> 0 | AA8: =Tabla_352978!A11 -> 0 | AB8: =Tabla_352975!A4 -> 0 | AC8: =Tabla_352979!A4 -> 0 | AD8: Departamento de Recursos Humanos de la Coordinacion Administrativa | AE8: 45764 | AF8: Inicio en el cargo el 22/09/2021
A9: 2025 | B9: 45658 | C9: 45747 | D9: Persona servidora pública | E9: 4.1 | F9: Directora "B" | G9: Directora Administrativa | H9: Dirección Administrtiva | I9: Julieta del Carmen | J9: Loeza | K9: López | L9: Mujer | M9: =29521.88+2250.6 -> 31772.48 | N9: PESOS | O9: 25027 | P9: PESOS | Q9: =Tabla_352976!A13 -> 0 | R9: 1 | S9: =Tabla_352977!A5 -> 2 | T9: =Tabla_352946!A4 -> 0 | U9: 1 | V9: =Tabla_352953!A24 -> 0 | W9: =Tabla_352963!A4 -> 0 | X9: =Tabla_352954!A4 -> 0 | Y9: =Tabla_352955!A6 -> 0 | Z9: =Tabla_352974!A8 -> 0 | AA9: =Tabla_352978!A11 -> 0 | AB9: =Tabla_352975!A4 -> 0 | AC9: =Tabla_352979!A4 -> 0 | AD9: Departamento de Recursos Humanos de la Coordinacion Administrativa | AE9: 45764
A10: 2025 | B10: 45658 | C10: 45747 | D10: Persona servidora pública | E10: 4.1 | F10: Director "B" | G10: Director de Vinculación Interinstitucional | H10: Dirección General | I10: Antonio | J10: Cuevas | K10: Alavarado | L10: Hombre | M10: =29521.88+2250.6 -> 31772.48 | N10: PESOS | O10: 22148.62 | P10: PESOS | Q10: =Tabla_352976!A13 -> 0 | R10: 1 | S10: =Tabla_352977!A6 -> 3 | T10: =Tabla_352946!A4 -> 0 | U10: 1 | V10: =Tabla_352953!A24 -> 0 | W10: =Tabla_352963!A4 -> 0 | X10: =Tabla_352954!A4 -> 0 | Y10: =Tabla_352955!A5 -> 2 | Z10: =Tabla_352974!A8 -> 0 | AA10: =Tabla_352978!A11 -> 0 | AB10: =Tabla_352975!A4 -> 0 | AC10: =Tabla_352979!A4 -> 0 | AD10: Departamento de Recursos Humanos de la Coordinacion Administrativa | AE10: 45764
A11: 2025 | B11: 45658 | C11: 45747 | D11: Persona servidora pública | E11: 5.2 | F11: Subdirector " A " | G11: Subdirector de Archivo de Concentración | H11: Dirección General | I11: Marco Antonio | J11: León | K11: Sánchez | L11: Hombre | M11: =24499.08+2250 -> 26749.08 | N11: PESOS | O11: 21500.5 | P11: PESOS | Q11: =Tabla_352976!A13 -> 0 | R11: 1 | S11: =Tabla_352977!A27 -> 0 | T11: =Tabla_352946!A4 -> 0 | U11: 1 | V11: =Tabla_352953!A24 -> 0 | W11: =Tabla_352963!A4 -> 0 | X11: =Tabla_352954!A4 -> 0 | Y11: =Tabla_352955!A6 -> 0 | Z11: =Tabla_352974!A8 -> 0 | AA11: =Tabla_352978!A11 -> 0 | AB11: =Tabla_352975!A4 -> 0 | AC11: =Tabla_352979!A4 -> 0 | AD11: Departamento de Recursos Humanos de la Coordinacion Administrativa | AE11: 45764
A12: 2025 | B12: 45658 | C12: 45747 | D12: Persona servidora pública | E12: 5.2 | F12: Subdirector " A " | G12: Subdirector de General | H12: Direccion General | I12: Marco Antonio | J12: Pascual | K12: Chiquini | L12: Hombre | M12: =24499.08+2250 -> 26749.08 | N12: PESOS | O12: 21500.5 | P12: PESOS | Q12: =Tabla_352976!A13 -> 0 | R12: 1 | S12: =Tabla_352977!A7 -> 4 | T12: =Tabla_352946!A4 -> 0 | U12: 1 | V12: =Tabla_352953!A24 -> 0 | W12: =Tabla_352963!A4 -> 0 | X12: =Tabla_352954!A4 -> 0 | Y12: =Tabla_352955!A5 -> 2 | Z12: =Tabla_352974!A8 -> 0 | AA12: =Tabla_352978!A11 -> 0 | AB12: =Tabla_352975!A4 -> 0 | AC12: =Tabla_352979!A4 -> 0 | AD12: Departamento de Recursos Humanos de la Coordinacion Administrativa | AE12: 45764
A13: 2025 | B13: 45658 | C13: 45747 | D13: Persona servidora pública | E13: 5.2 | F13: Subdirector " A " | G13: Subdirector Técnico | H13: Subdirección Técnico | I13: Luis Fernando | J13: Sosa | K13: Sosa | L13: Hombre | M13: =24499.08+2250 -> 26749.08 | N13: PESOS | O13: 21500.5 | P13: PESOS | Q13: =Tabla_352976!A13 -> 0 | R13: 1 | S13: =Tabla_352977!A7 -> 4 | T13: =Tabla_352946!A4 -> 0 | U13: 1 | V13: =Tabla_352953!A24 -> 0 | W13: =Tabla_352963!A4 -> 0 | X13: =Tabla_352954!A4 -> 0 | Y13: =Tabla_352955!A5 -> 2 | Z13: =Tabla_352974!A8 -> 0 | AA13: =Tabla_352978!A11 -> 0 | AB13: =Tabla_352975!A4 -> 0 | AC13: =Tabla_352979!A4 -> 0 | AD13: Departamento de Recursos Humanos de la Coordinacion Administrativa | AE13: 45764
A14: 2025 | B14: 45658 | C14: 45747 | D14: Persona servidora pública | E14: 5.2 | F14: Subdirector " A " | G14: Subdirector de Recursos Humanos | H14: Dirección Administrtiva | I14: Ernesto | J14: Castillo | K14: Aranda | L14: Hombre | M14: =24499.08+2250 -> 26749.08 | N14: PESOS | O14: 21500.5 | P14: PESOS | Q14: =Tabla_352976!A13 -> 0 | R14: 1 | S14: =Tabla_352977!A7 -> 4 | T14: =Tabla_352946!A4 -> 0 | U14: 1 | V14: =Tabla_352953!A4 -> 1 | W14: =Tabla_352963!A4 -> 0 | X14: =Tabla_352954!A4 -> 0 | Y14: =Tabla_352955!A5 -> 2 | Z14: =Tabla_352974!A8 -> 0 | AA14: =Tabla_352978!A11 -> 0 | AB14: =Tabla_352975!A40 -> 0 | AC14: =Tabla_352979!A4 -> 0 | AD14: Departamento de Recursos Humanos de la Coordinacion Administrativa | AE14: 45764
A15: 2025 | B15: 45658 | C15: 45747 | D15: Persona servidora pública | E15: 5.2 | F15: Subdirector " A " | G15: Subdirector de Recursos Materiales | H15: Dirección Administrtiva | I15: Martín | J15: Góngora | K15: Domínguez | L15: Hombre | M15: =24499.08+2250 -> 26749.08 | N15: PESOS | O15: 19111.84 | P15: PESOS | Q15: =Tabla_352976!A13 -> 0 | R15: 1 | S15: =Tabla_352977!A7 -> 4 | T15: =Tabla_352946!A4 -> 0 | U15: 1 | V15: =Tabla_352953!A4 -> 1 | W15: =Tabla_352963!A4 -> 0 | X15: =Tabla_352954!A4 -> 0 | Y15: =Tabla_352955!A5 -> 2 | Z15: =Tabla_352974!A8 -> 0 | AA15: =Tabla_352978!A11 -> 0 | AB15: =Tabla_352975!A4 -> 0 | AC15: =Tabla_352979!A4 -> 0 | AD15: Departamento de Recursos Humanos de la Coordinacion Administrativa | AE15: 45764
A16: 2025 | B16: 45658 | C16: 45747 | D16: Persona servidora pública | E16: 5.2 | F16: Subdirectora " A " | G16: Subdirectora de Transparencia | H16: Dirección General | I16: Miriam Fabiola | J16: Dominguez | K16: Moya | L16: Mujer | M16: =24499.08+2250 -> 26749.08 | N16: PESOS | O16: 21500.5 | P16: PESOS | Q16: =Tabla_352976!A13 -> 0 | R16: 1 | S16: =Tabla_352977!A7 -> 4 | T16: =Tabla_352946!A4 -> 0 | U16: 1 | V16: =Tabla_352953!A24 -> 0 | W16: =Tabla_352963!A4 -> 0 | X16: =Tabla_352954!A4 -> 0 | Y16: =Tabla_352955!A6 -> 0 | Z16: =Tabla_352974!A8 -> 0 | AA16: =Tabla_352978!A11 -> 0 | AB16: =Tabla_352975!A4 -> 0 | AC16: =Tabla_352979!A4 -> 0 | AD16: Departamento de Recursos Humanos de la Coordinacion Administrativa | AE16: 45764 | AF16: Inicio en el cargo el 18/11/2021
A17: 2025 | B17: 45658 | C17: 45747 | D17: Persona servidora pública | E17: 5.2 | F17: Subdirector " A " | G17: Subdirector de Producción | H17: Sudirección de Producción | I17: José Manuel | J17: Bencomo | K17: Briceño | L17: Hombre | M17: =24499.08+2250 -> 26749.08 | N17: PESOS | O17: 19111.84 | P17: PESOS | Q17: =Tabla_352976!A13 -> 0 | R17: 1 | S17: =Tabla_352977!A8 -> 5 | T17: =Tabla_352946!A4 -> 0 | U17: 1 | V17: =Tabla_352953!A19 -> 16 | W17: =Tabla_352963!A4 -> 0 | X17: =Tabla_352954!A4 -> 0 | Y17: =Tabla_352955!A5 -> 2 | Z17: =Tabla_352974!A5 -> 2 | AA17: =Tabla_352978!A11 -> 0 | AB17: =Tabla_352975!A4 -> 0 | AC17: =Tabla_352979!A4 -> 0 | AD17: Departamento de Recursos Humanos de la Coordinacion Administrativa | AE17: 45764
A18: 2025 | B18: 45658 | C18: 45747 | D18: Persona servidora pública | E18: 5.2 | F18: Subdirectora " A " | G18: Subdirector de Videoteca | H18: Subdirección de Videoteca | I18: Sonia Halinka | J18: Duran | K18: Risueño | L18: Mujer | M18: =24499.08+2250 -> 26749.08 | N18: PESOS | O18: 19111.84 | P18: PESOS | Q18: =Tabla_352976!A13 -> 0 | R18: 1 | S18: =Tabla_352977!A8 -> 5 | T18: =Tabla_352946!A4 -> 0 | U18: 1 | V18: =Tabla_352953!A24 -> 0 | W18: =Tabla_352963!A4 -> 0 | X18: =Tabla_352954!A4 -> 0 | Y18: =Tabla_352955!A6 -> 0 | Z18: =Tabla_352974!A8 -> 0 | AA18: =Tabla_352978!A11 -> 0 | AB18: =Tabla_352975!A4 -> 0 | AC18: =Tabla_352979!A4 -> 0 | AD18: Departamento de Recursos Humanos de la Coordinacion Administrativa | AE18: 45764
A19: 2025 | B19: 45658 | C19: 45747 | D19: Persona servidora pública | E19: 5.2 | F19: Subdirectora " A " | G19: Subdirector de Información | H19: Subdirección de Información | I19: Yuliana Berenice | J19: Chi | K19: Ramos | L19: Mujer | M19: =24499.08+2250 -> 26749.08 | N19: PESOS | O19: 19111.84 | P19: PESOS | Q19: =Tabla_352976!A13 -> 0 | R19: 1 | S19: =Tabla_352977!A8 -> 5 | T19: =Tabla_352946!A4 -> 0 | U19: 1 | V19: =Tabla_352953!A24 -> 0 | W19: =Tabla_352963!A4 -> 0 | X19: =Tabla_352954!A4 -> 0 | Y19: =Tabla_352955!A6 -> 0 | Z19: =Tabla_352974!A8 -> 0 | AA19: =Tabla_352978!A11 -> 0 | AB19: =Tabla_352975!A4 -> 0 | AC19: =Tabla_352979!A4 -> 0 | AD19: Departamento de Recursos Humanos de la Coordinacion Administrativa | AE19: 45764
A20: 2025 | B20: 45658 | C20: 45747 | D20: Persona servidora pública | E20: 5.1 | F20: Subdirectora " B " | G20: Sudirectora de Información | H20: Subdirección de Información | I20: Maritoña | J20: Quirarte | K20: Rodríguez | L20: Mujer | M20: =18355.54+2250.6 -> 20606.14 | N20: PESOS | O20: 17042.86 | P20: PESOS | Q20: =Tabla_352976!A13 -> 0 | R20: 1 | S20: =Tabla_352977!A9 -> 6 | T20: =Tabla_352946!A4 -> 0 | U20: 1 | V20: =Tabla_352953!A24 -> 0 | W20: =Tabla_352963!A4 -> 0 | X20: =Tabla_352954!A4 -> 0 | Y20: =Tabla_352955!A6 -> 0 | Z20: =Tabla_352974!A7 -> 4 | AA20: =Tabla_352978!A11 -> 0 | AB20: =Tabla_352975!A4 -> 0 | AC20: =Tabla_352979!A4 -> 0 | AD20: Departamento de Recursos Humanos de la Coordinacion Administrativa | AE20: 45764
A21: 2025 | B21: 45658 | C21: 45747 | D21: Persona servidora pública | E21: 6.2 | F21: Subdirector " C " | G21: Subdirector de Recursos Materiales | H21: Dirección Administrtiva | I21: Luis Alfonso | J21: Cardeñas | K21: Mota | L21: Hombre | M21: =16552.02+2250.6 -> 18802.62 | N21: PESOS | O21: 14110.86 | P21: PESOS | Q21: =Tabla_352976!A13 -> 0 | R21: 1 | S21: =Tabla_352977!A12 -> 9 | T21: =Tabla_352946!A4 -> 0 | U21: 1 | V21: =Tabla_352953!A24 -> 0 | W21: =Tabla_352963!A4 -> 0 | X21: =Tabla_352954!A4 -> 0 | Y21: =Tabla_352955!A6 -> 0 | Z21: =Tabla_352974!A8 -> 0 | AA21: =Tabla_352978!A11 -> 0 | AB21: =Tabla_352975!A4 -> 0 | AC21: =Tabla_352979!A4 -> 0 | AD21: Departamento de Recursos Humanos de la Coordinacion Administrativa | AE21: 45764 | AF21: Inicio en el cargo el 16/04/2023
A22: 2025 | B22: 45658 | C22: 45747 | D22: Persona servidora pública | E22: 6.2 | F22: Subdirector " C " | G22: Subdirector de Postproducción | H22: Dirección Administrtiva | I22: Henry Alexander | J22: Blanquet | K22: López | L22: Hombre | M22: =16552.02+2250.6 -> 18802.62 | N22: PESOS | O22: 15724.68 | P22: PESOS | Q22: =Tabla_352976!A13 -> 0 | R22: 1 | S22: =Tabla_352977!A10 -> 7 | T22: =Tabla_352946!A4 -> 0 | U22: 1 | V22: =Tabla_352953!A24 -> 0 | W22: =Tabla_352963!A4 -> 0 | X22: =Tabla_352954!A4 -> 0 | Y22: =Tabla_352955!A6 -> 0 | Z22: =Tabla_352974!A8 -> 0 | AA22: =Tabla_352978!A11 -> 0 | AB22: =Tabla_352975!A4 -> 0 | AC22: =Tabla_352979!A4 -> 0 | AD22: Departamento de Recursos Humanos de la Coordinacion Administrativa | AE22: 45764
A23: 2025 | B23: 45658 | C23: 45747 | D23: Persona servidora pública | E23: 7.2 | F23: Jefe (a) de Departamento " B " | G23: Jefe de Depto. De Transmisión y Enlaces | H23: Subdirección Técnico | I23: Miguel | J23: Ramírez | K23: Alvárez | L23: Hombre | M23: =13452.68+2250.6 -> 15703.28 | N23: PESOS | O23: 12185.46 | P23: PESOS | Q23: =Tabla_352976!A13 -> 0 | R23: 1 | S23: =Tabla_352977!A16 -> 13 | T23: =Tabla_352946!A4 -> 0 | U23: 1 | V23: =Tabla_352953!A23 -> 20 | W23: =Tabla_352963!A4 -> 0 | X23: =Tabla_352954!A4 -> 0 | Y23: =Tabla_352955!A5 -> 2 | Z23: =Tabla_352974!A8 -> 0 | AA23: =Tabla_352978!A11 -> 0 | AB23: =Tabla_352975!A4 -> 0 | AC23: =Tabla_352979!A4 -> 0 | AD23: Departamento de Recursos Humanos de la Coordinacion Administrativa | AE23: 45764
A24: 2025 | B24: 45658 | C24: 45747 | D24: Persona servidora pública | E24: 7.2 | F24: Jefe (a) de Departamento " B " | G24: Jefe de Depto. De Archivo de Concentración | H24: Dirección General | I24: Celina | J24: Cienfuegos | K24: Martínez | L24: Mujer | M24: =13452.68+2250.6 -> 15703.28 | N24: PESOS | O24: 12185.45 | P24: PESOS | Q24: =Tabla_352976!A60 -> 0 | R24: 1 | S24: =Tabla_352977!A16 -> 13 | T24: =Tabla_352946!A4 -> 0 | U24: 1 | V24: =Tabla_352953!A24 -> 0 | W24: =Tabla_352963!A4 -> 0 | X24: =Tabla_352954!A4 -> 0 | Y24: =Tabla_352955!A6 -> 0 | Z24: =Tabla_352974!A8 -> 0 | AA24: =Tabla_352978!A11 -> 0 | AB24: =Tabla_352975!A4 -> 0 | AC24: =Tabla_352979!A4 -> 0 | AD24: Departamento de Recursos Humanos de la Coordinacion Administrativa | AE24: 45764
A25: 2025 | B25: 45658 | C25: 45747 | D25: Persona servidora pública | E25: 7.2 | F25: Jefe (a) de Departamento " B " | G25: Jefe de Depto. De Mantenimiento | H25: Subdirección Técnico | I25: José Armando | J25: Ramírez | K25: Herrera | L25: Hombre | M25: =13452.68+2250.6 -> 15703.28 | N25: PESOS | O25: 13497.1 | P25: PESOS | Q25: =Tabla_352976!A13 -> 0 | R25: 1 | S25: =Tabla_352977!A13 -> 10 | T25: =Tabla_352946!A4 -> 0 | U25: 1 | V25: =Tabla_352953!A23 -> 20 | W25: =Tabla_352963!A4 -> 0 | X25: =Tabla_352954!A4 -> 0 | Y25: =Tabla_352955!A5 -> 2 | Z25: =Tabla_352974!A8 -> 0 | AA25: =Tabla_352978!A11 -> 0 | AB25: =Tabla_352975!A4 -> 0 | AC25: =Tabla_352979!A4 -> 0 | AD25: Departamento de Recursos Humanos de la Coordinacion Administrativa | AE25: 45764
A26: 2025 | B26: 45658 | C26: 45747 | D26: Persona servidora pública | E26: 7.2 | F26: Jefe (a) de Departamento " B " | G26: Jefe de Deprto. De Sistema de Redes | H26: Dirección General | I26: Miguel Angel | J26: León | K26: López | L26: Hombre | M26: =13452.68+2250.6 -> 15703.28 | N26: PESOS | O26: 13497.1 | P26: PESOS | Q26: =Tabla_352976!A13 -> 0 | R26: 1 | S26: =Tabla_352977!A13 -> 10 | T26: =Tabla_352946!A4 -> 0 | U26: 1 | V26: =Tabla_352953!A24 -> 0 | W26: =Tabla_352963!A4 -> 0 | X26: =Tabla_352954!A4 -> 0 | Y26: =Tabla_352955!A5 -> 2 | Z26: =Tabla_352974!A8 -> 0 | AA26: =Tabla_352978!A11 -> 0 | AB26: =Tabla_352975!A4 -> 0 | AC26: =Tabla_352979!A4 -> 0 | AD26: Departamento de Recursos Humanos de la Coordinacion Administrativa | AE26: 45764
A27: 2025 | B27: 45658 | C27: 45747 | D27: Persona servidora pública | E27: 7.2 | F27: Jefe (a) de Departamento " B " | G27: Jefe de Deprto. De Preproducción | H27: Subdirección de Producción | I27: José Francisco | J27: Cahuich | K27: Nahuat | L27: Hombre | M27: =13452.68+2250.6 -> 15703.28 | N27: PESOS | O27: 13497.1 | P27: PESOS | Q27: =Tabla_352976!A13 -> 0 | R27: 1 | S27: =Tabla_352977!A13 -> 10 | T27: =Tabla_352946!A4 -> 0 | U27: 1 | V27: =Tabla_352953!A24 -> 0 | W27: =Tabla_352963!A4 -> 0 | X27: =Tabla_352954!A4 -> 0 | Y27: =Tabla_352955!A5 -> 2 | Z27: =Tabla_352974!A8 -> 0 | AA27: =Tabla_352978!A11 -> 0 | AB27: =Tabla_352975!A4 -> 0 | AC27: =Tabla_352979!A4 -> 0 | AD27: Departamento de Recursos Humanos de la Coordinacion Administrativa | AE27: 45764
A28: 2025 | B28: 45658 | C28: 45747 | D28: Persona servidora pública | E28: 7.2 | F28: Jefe (a) de Departamento " B " | G28: Jefe de Deprto. De Redacción | H28: Subdirección de Información | I28: Teresa del Carmen | J28: Canché | K28: Chi | L28: Mujer | M28: =13452.68+2250.6 -> 15703.28 | N28: PESOS | O28: 13497.1 | P28: PESOS | Q28: =Tabla_352976!A13 -> 0 | R28: 1 | S28: =Tabla_352977!A13 -> 10 | T28: =Tabla_352946!A4 -> 0 | U28: 1 | V28: =Tabla_352953!A24 -> 0 | W28: =Tabla_352963!A4 -> 0 | X28: =Tabla_352954!A4 -> 0 | Y28: =Tabla_352955!A6 -> 0 | Z28: =Tabla_352974!A8 -> 0 | AA28: =Tabla_352978!A11 -> 0 | AB28: =Tabla_352975!A4 -> 0 | AC28: =Tabla_352979!A4 -> 0 | AD28: Departamento de Recursos Humanos de la Coordinacion Administrativa | AE28: 45764
A29: 2025 | B29: 45658 | C29: 45747 | D29: Persona servidora pública | E29: 7.2 | F29: Jefe (a) de Departamento " B " | G29: Jefe de Deprto. De Correctora de Estilos | H29: Subdirección de Información | I29: Silvia Azalea | J29: Sarmiento | K29: Carrillo | L29: Mujer | M29: =13452.68+2250.6 -> 15703.28 | N29: PESOS | O29: 13497.1 | P29: PESOS | Q29: =Tabla_352976!A13 -> 0 | R29: 1 | S29: =Tabla_352977!A13 -> 10 | T29: =Tabla_352946!A4 -> 0 | U29: 1 | V29: =Tabla_352953!A24 -> 0 | W29: =Tabla_352963!A4 -> 0 | X29: =Tabla_352954!A4 -> 0 | Y29: =Tabla_352955!A6 -> 0 | Z29: =Tabla_352974!A8 -> 0 | AA29: =Tabla_352978!A11 -> 0 | AB29: =Tabla_352975!A4 -> 0 | AC29: =Tabla_352979!A4 -> 0 | AD29: Departamento de Recursos Humanos de la Coordinacion Administrativa | AE29: 45764
A30: 2025 | B30: 45658 | C30: 45747 | D30: Persona servidora pública | E30: 7.2 | F30: Jefe (a) de Departamento " B " | G30: Jefe de Deprto. De Producción | H30: Subdirección de Producción | I30: Marco Antonio | J30: Aguilar | K30: Acate | L30: Hombre | M30: =13452.68+2250.6 -> 15703.28 | N30: PESOS | O30: 12185.46 | P30: PESOS | Q30: =Tabla_352976!A13 -> 0 | R30: 1 | S30: =Tabla_352977!A13 -> 10 | T30: =Tabla_352946!A4 -> 0 | U30: 1 | V30: =Tabla_352953!A24 -> 0 | W30: =Tabla_352963!A4 -> 0 | X30: =Tabla_352954!A4 -> 0 | Y30: =Tabla_352955!A5 -> 2 | Z30: =Tabla_352974!A8 -> 0 | AA30: =Tabla_352978!A11 -> 0 | AB30: =Tabla_352975!A4 -> 0 | AC30: =Tabla_352979!A4 -> 0 | AD30: Departamento de Recursos Humanos de la Coordinacion Administrativa | AE30: 45764
A31: 2025 | B31: 45658 | C31: 45747 | D31: Persona servidora pública | E31: 7.1 | F31: Jefe (a) de Departamento " C " | G31: Jefe de Deprto. De Relaciones Públicas | H31: Dirección General | I31: Landy Sayde | J31: Pardiñas | K31: Sayde | L31: Mujer | M31: =12432.65+2250.6 -> 14683.25 | N31: PESOS | O31: 12727.38 | P31: PESOS | Q31: =Tabla_352976!A13 -> 0 | R31: 1 | S31: =Tabla_352977!A14 -> 11 | T31: =Tabla_352946!A4 -> 0 | U31: 1 | V31: =Tabla_352953!A24 -> 0 | W31: =Tabla_352963!A4 -> 0 | X31: =Tabla_352954!A4 -> 0 | Y31: =Tabla_352955!A6 -> 0 | Z31: =Tabla_352974!A8 -> 0 | AA31: =Tabla_352978!A11 -> 0 | AB31: =Tabla_352975!A4 -> 0 | AC31: =Tabla_352979!A4 -> 0 | AD31: Departamento de Recursos Humanos de la Coordinacion Administrativa | AE31: 45764 | AF31: Inicio en el cargo el 01/09/2020
A32: 2025 | B32: 45658 | C32: 45747 | D32: Persona servidora pública | E32: 8.2 | F32: Editor ( a ) | G32: Editor | H32: Subdirección de Información | I32: Ricardo Josué | J32: Tun | K32: Hernandez | L32: Hombre | M32: =11951.48+2250.6 -> 14202.08 | N32: PESOS | O32: 12345.66 | P32: PESOS | Q32: =Tabla_352976!A13 -> 0 | R32: 1 | S32: =Tabla_352977!A15 -> 12 | T32: =Tabla_352946!A4 -> 0 | U32: 1 | V32: =Tabla_352953!A24 -> 0 | W32: =Tabla_352963!A4 -> 0 | X32: =Tabla_352954!A4 -> 0 | Y32: =Tabla_352955!A5 -> 2 | Z32: =Tabla_352974!A8 -> 0 | AA32: =Tabla_352978!A11 -> 0 | AB32: =Tabla_352975!A4 -> 0 | AC32: =Tabla_352979!A4 -> 0 | AD32: Departamento de Recursos Humanos de la Coordinacion Administrativa | AE32: 45764
A33: 2025 | B33: 45658 | C33: 45747 | D33: Persona servidora pública | E33: 8.2 | F33: Productor (a) | G33: Productora | H33: Subdirección de Producción | I33: Susana Maribel | J33: Marentes | K33: Sánchez | L33: Mujer | M33: =11951.48+2250.6 -> 14202.08 | N33: PESOS | O33: 11180.39 | P33: PESOS | Q33: =Tabla_352976!A13 -> 0 | R33: 1 | S33: =Tabla_352977!A19 -> 16 | T33: =Tabla_352946!A4 -> 0 | U33: 1 | V33: =Tabla_352953!A24 -> 0 | W33: =Tabla_352963!A4 -> 0 | X33: =Tabla_352954!A4 -> 0 | Y33: =Tabla_352955!A6 -> 0 | Z33: =Tabla_352974!A8 -> 0 | AA33: =Tabla_352978!A11 -> 0 | AB33: =Tabla_352975!A4 -> 0 | AC33: =Tabla_352979!A4 -> 0 | AD33: Departamento de Recursos Humanos de la Coordinacion Administrativa | AE33: 45764
A34: 2025 | B34: 45658 | C34: 45747 | D34: Persona servidora pública | E34: 9.2 | F34: Productor (a) | G34: Productora | H34: Subdirección de Producción | I34: Ediltha María | J34: Castillo | K34: Cervera | L34: Mujer | M34: =12818.7+511.5 -> 13330.2 | N34: PESOS | O34: 11335.1 | P34: PESOS | Q34: =Tabla_352976!A13 -> 0 | R34: 1 | S34: =Tabla_352977!A18 -> 15 | T34: =Tabla_352946!A4 -> 0 | U34: 1 | V34: =Tabla_352953!A24 -> 0 | W34: =Tabla_352963!A4 -> 0 | X34: =Tabla_352954!A4 -> 0 | Y34: =Tabla_352955!A4 -> 1 | Z34: =Tabla_352974!A8 -> 0 | AA34: =Tabla_352978!A11 -> 0 | AB34: =Tabla_352975!A4 -> 0 | AC34: =Tabla_352979!A4 -> 0 | AD34: Departamento de Recursos Humanos de la Coordinacion Administrativa | AE34: 45764
A35: 2025 | B35: 45658 | C35: 45747 | D35: Persona servidora pública | E35: 9.2 | F35: Analista | G35: Analista | H35: Subdirección de Videoteca | I35: Addy Caridad | J35: Sánchez | K35: Suárez | L35: Mujer | M35: =12818.7+511.5 -> 13330.2 | N35: PESOS | O35: 11335.1 | P35: PESOS | Q35: =Tabla_352976!A13 -> 0 | R35: 1 | S35: =Tabla_352977!A18 -> 15 | T35: =Tabla_352946!A4 -> 0 | U35: 1 | V35: =Tabla_352953!A17 -> 14 | W35: =Tabla_352963!A4 -> 0 | X35: =Tabla_352954!A4 -> 0 | Y35: =Tabla_352955!A4 -> 1 | Z35: =Tabla_352974!A8 -> 0 | AA35: =Tabla_352978!A11 -> 0 | AB35: =Tabla_352975!A4 -> 0 | AC35: =Tabla_352979!A4 -> 0 | AD35: Departamento de Recursos Humanos de la Coordinacion Administrativa | AE35: 45764
A36: 2025 | B36: 45658 | C36: 45747 | D36: Persona servidora pública | E36: 9.2 | F36: Productor (a) | G36: Productora | H36: Subdirección de Producción | I36: Claudia Lilian | J36: Ávila | K36: Cañetas | L36: Mujer | M36: =12818.7+511.5 -> 13330.2 | N36: PESOS | O36: 11335.1 | P36: PESOS | Q36: =Tabla_352976!A13 -> 0 | R36: 1 | S36: =Tabla_352977!A18 -> 15 | T36: =Tabla_352946!A4 -> 0 | U36: 1 | V36: =Tabla_352953!A24 -> 0 | W36: =Tabla_352963!A4 -> 0 | X36: =Tabla_352954!A4 -> 0 | Y36: =Tabla_352955!A4 -> 1 | Z36: =Tabla_352974!A8 -> 0 | AA36: =Tabla_352978!A11 -> 0 | AB36: =Tabla_352975!A4 -> 0 | AC36: =Tabla_352979!A4 -> 0 | AD36: Departamento de Recursos Humanos de la Coordinacion Administrativa | AE36: 45764
A37: 2025 | B37: 45658 | C37: 45747 | D37: Persona servidora pública | E37: 9.2 | F37: Reportera (o) | G37: Reportera | H37: Subdirección de Información | I37: Brenda Lizette | J37: Martínez | K37: González | L37: Mujer | M37: =12818.7+511.5 -> 13330.2 | N37: PESOS | O37: 10085.28 | P37: PESOS | Q37: =Tabla_352976!A13 -> 0 | R37: 1 | S37: =Tabla_352977!A22 -> 19 | T37: =Tabla_352946!A4 -> 0 | U37: 1 | V37: =Tabla_352953!A24 -> 0 | W37: =Tabla_352963!A4 -> 0 | X37: =Tabla_352954!A4 -> 0 | Y37: =Tabla_352955!A4 -> 1 | Z37: =Tabla_352974!A8 -> 0 | AA37: =Tabla_352978!A11 -> 0 | AB37: =Tabla_352975!A4 -> 0 | AC37: =Tabla_352979!A4 -> 0 | AD37: Departamento de Recursos Humanos de la Coordinacion Administrativa | AE37: 45764
A38: 2025 | B38: 45658 | C38: 45747 | D38: Persona servidora pública | E38: 9.2 | F38: Reportera (o) | G38: Reportera | H38: Subdirección de Información | I38: Carolina de la Cruz | J38: Pacheco | K38: Ic | L38: Mujer | M38: =12818.7+511.5 -> 13330.2 | N38: PESOS | O38: 11335.1 | P38: PESOS | Q38: =Tabla_352976!A13 -> 0 | R38: 1 | S38: =Tabla_352977!A18 -> 15 | T38: =Tabla_352946!A4 -> 0 | U38: 1 | V38: =Tabla_352953!A18 -> 15 | W38: =Tabla_352963!A34 -> 0 | X38: =Tabla_352954!A4 -> 0 | Y38: =Tabla_352955!A4 -> 1 | Z38: =Tabla_352974!A8 -> 0 | AA38: =Tabla_352978!A11 -> 0 | AB38: =Tabla_352975!A4 -> 0 | AC38: =Tabla_352979!A4 -> 0 | AD38: Departamento de Recursos Humanos de la Coordinacion Administrativa | AE38: 45764 | AF38: Inicio en el cargo el 01/09/2020
A39: 2025 | B39: 45658 | C39: 45747 | D39: Persona servidora pública | E39: 9.1 | F39: Analista | G39: Analista | H39: Dirección Administrtiva | I39: Vianey Lluridia | J39: Canul | K39: Trujeque | L39: Mujer | M39: =9853.06+511.5 -> 10364.56 | N39: PESOS | O39: 8950.22 | P39: PESOS | Q39: =Tabla_352976!A13 -> 0 | R39: 1 | S39: =Tabla_352977!A26 -> 23 | T39: =Tabla_352946!A4 -> 0 | U39: 1 | V39: =Tabla_352953!A20 -> 17 | W39: =Tabla_352963!A4 -> 0 | X39: =Tabla_352954!A4 -> 0 | Y39: =Tabla_352955!A4 -> 1 | Z39: =Tabla_352974!A8 -> 0 | AA39: =Tabla_352978!A11 -> 0 | AB39: =Tabla_352975!A4 -> 0 | AC39: =Tabla_352979!A4 -> 0 | AD39: Departamento de Recursos Humanos de la Coordinacion Administrativa | AE39: 45764
A40: 2025 | B40: 45658 | C40: 45747 | D40: Persona servidora pública | E40: 9.1 | F40: Productor (a) | G40: Productora | H40: Subdirección de Producción | I40: Ivana Sarai | J40: Jiménez | K40: Beltrán | L40: Mujer | M40: =9853.06+511.5 -> 10364.56 | N40: PESOS | O40: 8950.22 | P40: PESOS | Q40: =Tabla_352976!A13 -> 0 | R40: 1 | S40: =Tabla_352977!A26 -> 23 | T40: =Tabla_352946!A4 -> 0 | U40: 1 | V40: =Tabla_352953!A24 -> 0 | W40: =Tabla_352963!A4 -> 0 | X40: =Tabla_352954!A4 -> 0 | Y40: =Tabla_352955!A4 -> 1 | Z40: =Tabla_352974!A8 -> 0 | AA40: =Tabla_352978!A11 -> 0 | AB40: =Tabla_352975!A4 -> 0 | AC40: =Tabla_352979!A4 -> 0 | AD40: Departamento de Recursos Humanos de la Coordinacion Administrativa | AE40: 45764
...

Sheet Hoja1

Sheet Hoja2

Sheet Hoja3

Sheet Hoja4

Sheet Hoja5

Sheet Hoja6

Sheet Hoja7

Sheet Hoja8

Sheet Hidden_1
A1: Funcionaria (o)
A2: Persona servidora pública
A3: Persona servidora pública eventual
A4: Integrante
A5: Empleada (o)
A6: Representante popular
A7: Miembro del poder judicial
A8: Miembro de órgano autónomo
A9: Personal de confianza
A10: Persona prestadora de servicios profesionales
A11: Otro

Sheet Hidden_2
A1: Hombre
A2: Mujer

Sheet Tabla_352976
B1: 2 | C1: 6 | D1: 6 | E1: 1 | F1: 1
B2: 45666 | C2: 45667 | D2: 45668 | E2: 45669 | F2: 45670
A3: ID | B3: Denominación de las percepciones adicionales en dinero | C3: Monto bruto de las percepciones adicionales en dinero | D3: Monto neto de las percepciones adicionales en dinero | E3: Tipo de moneda de las percepciones adicionales en dinero | F3: Periodicidad de las percepciones adicionales en dinero
A4: 1 | B4: GASTOS CULTURALES Y PRODUCTIVIDAD | C4: 1341.24 | D4: 1054.76 | E4: PESOS
A5: 2 | B5: GASTOS CULTURALES Y PRODUCTIVIDAD | C5: 1142.93 | D5: 938.12 | E5: PESOS | F5: MENSUAL
A6: 3 | B6: GASTOS CULTURALES Y PRODUCTIVIDAD | C6: 1090.35 | D6: 906.73 | E6: PESOS | F6: MENSUAL
A7: 4 | B7: GASTOS CULTURALES Y PRODUCTIVIDAD | C7: 1070.55 | D7: 895.21 | E7: PESOS | F7: MENSUAL
A8: 5 | B8: GASTOS CULTURALES Y PRODUCTIVIDAD | C8: 1046.02 | D8: 892.82 | E8: PESOS | F8: MENSUAL
A9: 6 | B9: GASTOS CULTURALES Y PRODUCTIVIDAD | C9: 1034.08 | D9: 889.59 | E9: PESOS | F9: MENSUAL
A10: 7 | B10: GASTOS CULTURALES Y PRODUCTIVIDAD | C10: 1020.73 | D10: 886.7 | E10: PESOS | F10: MENSUAL
A11: 8 | B11: GASTOS CULTURALES Y PRODUCTIVIDAD | C11: 950.4 | D11: 775.06 | E11: PESOS | F11: MENSUAL
A12: 9 | B12: GASTOS CULTURALES Y PRODUCTIVIDAD | C12: 868.45 | D12: 823.45
A13: 0 | B13: NINGUNA | C13: 0

Sheet Tabla_352962
B1: 2 | C1: 1
B2: 45644 | C2: 45645
A3: ID | B3: Descripción de las percepciones adicionales en especie | C3: Periodicidad de las percepciones adicionales en especie
A4: 1 | B4: VALE DE DESPENSA | C4: MENSUAL

Sheet Tabla_352977
B1: 2 | C1: 6 | D1: 6 | E1: 1 | F1: 1
B2: 45673 | C2: 45674 | D2: 45675 | E2: 45671 | F2: 45672
A3: ID | B3: Denominación de los ingresos | C3: Monto bruto de los ingresos | D3: Monto neto de los ingresos | E3: Tipo de moneda de los ingresos | F3: Periodicidad de los ingresos
A4: 1 | B4: SUELDO | C4: =64025.88+2751.88 -> 66777.76 | D4: 41938.88 | E4: PESOS | F4: QUINCENAL
A5: 2 | B5: SUELDO | C5: =29521.88+2250.6 -> 31772.48 | D5: 25027 | E5: PESOS | F5: QUINCENAL
A6: 3 | B6: SUELDO | C6: =29521.88+2250.6 -> 31772.48 | D6: 22148.62 | E6: PESOS | F6: QUINCENAL
A7: 4 | B7: SUELDO | C7: =24499.08+2250 -> 26749.08 | D7: 21500.5 | E7: PESOS | F7: QUINCENAL
A8: 5 | B8: SUELDO | C8: 26749.08 | D8: 19111.84 | E8: PESOS | F8: QUINCENAL
A9: 6 | B9: SUELDO | C9: =18355.54+2250.6 -> 20606.14 | D9: 17042.86 | E9: PESOS | F9: QUINCENAL
A10: 7 | B10: SUELDO | C10: =16552.02+2250.6 -> 18802.62 | D10: 15724.68 | E10: PESOS | F10: QUINCENAL
A11: 8 | B11: SUELDO | C11: =586.35*30 -> 17590.5 | D11: 15112.53 | E11: PESOS | F11: QUINCENAL
A12: 9 | B12: SUELDO | C12: =16552.02+2250.6 -> 18802.62 | D12: 14110.86 | E12: PESOS | F12: QUINCENAL
A13: 10 | B13: SUELDO | C13: =13452.68+2250.6 -> 15703.28 | D13: 13497.1 | E13: PESOS | F13: QUINCENAL
A14: 11 | B14: SUELDO | C14: 14683.23 | D14: 12727.37 | E14: PESOS | F14: QUINCENAL
A15: 12 | B15: SUELDO | C15: =11951.48+2250.6 -> 14202.08 | D15: 12345.66 | E15: PESOS | F15: QUINCENAL
A16: 13 | B16: SUELDO | C16: =13452.68+2250.6 -> 15703.28 | D16: 12185.46 | E16: PESOS | F16: QUINCENAL
A17: 14 | B17: SUELDO | C17: =12818.7+511.5 -> 13330.2 | D17: 11335.1 | E17: PESOS | F17: QUINCENAL
A18: 15 | B18: SUELDO | C18: 12754.5 | D18: 11321.45 | E18: PESOS | F18: QUINCENAL
A19: 16 | B19: SUELDO | C19: =11951.48+2250.6 -> 14202.08 | D19: 11180.39 | E19: PESOS | F19: QUINCENAL
A20: 17 | B20: SUELDO | C20: 11472 | D20: 10270.88 | E20: PESOS | F20: QUINCENAL
A21: 18 | B21: SUELDO | C21: =12818.7+511.5 -> 13330.2 | D21: 10085.28 | E21: PESOS | F21: QUINCENAL
A22: 19 | B22: SUELDO | C22: 10989 | D22: 9876.42 | E22: PESOS | F22: QUINCENAL
A23: 20 | B23: SUELDO | C23: 10390.5 | D23: 9358.63 | E23: PESOS | F23: QUINCENAL
A24: 21 | B24: SUELDO | C24: 10099.5 | D24: 9105.11 | E24: PESOS | F24: QUINCENAL
A25: 22 | B25: SUELDO | C25: =9853.06+511.85 -> 10364.91 | D25: 8950.22 | E25: PESOS | F25: QUINCENAL
A26: 23 | B26: SUELDO | C26: 9774 | D26: 8822.62 | E26: PESOS | F26: QUINCENAL
A27: 0 | B27: SUELDO | C27: 0 | D27: 0 | E27: PESOS | F27: QUINCENAL

Sheet Tabla_352946
B1: 1 | C1: 6 | D1: 6 | E1: 1 | F1: 1
B2: 45624 | C2: 45625 | D2: 45626 | E2: 45627 | F2: 45628
A3: ID | B3: Denominación de los sistemas de compensación | C3: Monto bruto de los sistemas de compensación | D3: Monto neto de los sistemas de compensación | E3: Tipo de moneda de los sistemas de compensación | F3: Periodicidad de los sistemas de compensación
A4: 0 | B4: NINGUNO | C4: 0 | D4: 0 | E4: MN | F4: N/A

Sheet Tabla_352966
B1: 1 | C1: 6 | D1: 6 | E1: 1 | F1: 1
B2: 45651 | C2: 45652 | D2: 45653 | E2: 45654 | F2: 45655
A3: ID | B3: Denominación de las gratificaciones | C3: Monto bruto de las gratificaciones | D3: Monto neto de las gratificaciones | E3: Tipo de moneda de las gratificaciones | F3: Periodicidad de las gratificaciones
A4: 1 | B4: AGUINALDO | C4: 0 | D4: 0 | E4: PESOS | F4: ANUAL

Sheet Tabla_352953
B1: 1 | C1: 6 | D1: 6 | E1: 1 | F1: 1
B2: 45629 | C2: 45630 | D2: 45631 | E2: 45632 | F2: 45633
A3: ID | B3: Denominación de las primas | C3: Monto bruto de las primas | D3: Monto neto de las primas | E3: Tipo de moneda de las primas | F3: Periodicidad de las primas
A4: 1 | B4: PRIMA VACACIONAL | C4: 8916.56 | D4: 6850.48 | E4: PESOS | F4: CADA 6 MESES
A5: 2 | B5: PRIMA VACACIONAL | C5: 7948.71 | D5: 7145.94 | E5: PESOS | F5: CADA 6 MESES
A6: 3 | B6: PRIMA VACACIONAL | C6: 7014.97 | D6: 5918.42 | E6: PESOS | F6: CADA 6 MESES
A7: 4 | B7: PRIMA VACACIONAL | C7: 6593.07 | D7: 5659.79 | E7: PESOS | F7: CADA 6 MESES
A8: 5 | B8: PRIMA VACACIONAL | C8: 6593.07 | D8: 5610.51 | E8: PESOS | F8: CADA 6 MESES
A9: 6 | B9: PRIMA VACACIONAL | C9: 6315.38 | D9: 5454.53 | E9: PESOS | F9: CADA 6 MESES
A10: 7 | B10: PRIMA VACACIONAL | C10: 6309.6 | D10: 5436.87 | E10: PESOS | F10: CADA 6 MESES
A11: 8 | B11: PRIMA VACACIONAL | C11: 6045.95 | D11: 5189.85 | E11: PESOS | F11: CADA 6 MESES
A12: 9 | B12: PRIMA VACACIONAL | C12: 6043.95 | D12: 5187.85 | E12: PESOS | F12: CADA 6 MESES
A13: 10 | B13: PRIMA VACACIONAL | C13: 5971.69 | D13: 5144.32 | E13: PESOS | F13: CADA 6 MESES
A14: 11 | B14: PRIMA VACACIONAL | C14: 5804.21 | D14: 5062.16 | E14: PESOS | F14: CADA 6 MESES
A15: 12 | B15: PRIMA VACACIONAL | C15: 5714.77 | D15: 5196.11 | E15: PESOS | F15: CADA 6 MESES
... A23: 20 | B23: PRIMA VACACIONAL | C23: 1345.27 | D23: 1345.27 | E23: PESOS | F23: CADA 6 MESES
A24: 0 | B24: NINGUNA | F24: N/A

Sheet Tabla_352963
B1: 1 | C1: 6 | D1: 6 | E1: 1 | F1: 1
B2: 45646 | C2: 45647 | D2: 45648 | E2: 45649 | F2: 45650
A3: ID | B3: Denominación de las comisiones | C3: Monto bruto de las comisiones | D3: Monto neto de las comisiones | E3: Tipo de moneda de las comisiones | F3: Periodicidad de las comisiones
A4: 0 | B4: N/A | C4: 0 | D4: 0 | E4: MN | F4: N/A

Sheet Tabla_352954
B1: 1 | C1: 6 | D1: 6 | E1: 1 | F1: 1
B2: 45634 | C2: 45635 | D2: 45636 | E2: 45637 | F2: 45638
A3: ID | B3: Denominación de las dietas | C3: Monto bruto de las dietas | D3: Monto neto de las dietas | E3: Tipo de moneda de las dietas | F3: Periodicidad de las dietas
A4: 0 | B4: N/A

Sheet Tabla_352955
B1: 1 | C1: 6 | D1: 6 | E1: 1 | F1: 1
B2: 45639 | C2: 45640 | D2: 45641 | E2: 45642 | F2: 45643
A3: ID | B3: Denominación de los bonos | C3: Monto bruto de los bonos | D3: Monto neto de los bonos | E3: Tipo de moneda de los bonos | F3: Periodicidad de los bonos
A4: 1 | B4: BONO DE UTILES ESCOLARES | C4: 700 | D4: 700
A5: 2 | B5: BONO DIA DEL PADRE | C5: 400 | D5: 400
A6: 0 | B6: NINGUNA | C6: 0 | D6: 0

Sheet Tabla_352974
B1: 1 | C1: 6 | D1: 6 | E1: 1 | F1: 1
B2: 45656 | C2: 45657 | D2: 45658 | E2: 45659 | F2: 45660
A3: ID | B3: Denominación de los estímulos | C3: Monto bruto de los estímulos | D3: Monto neto de los estímulos | E3: Tipo de moneda de los estímulos | F3: Periodicidad de los estímulos
A4: 1 | B4: BONO DE PERSEVERANCIA | C4: 197684.65 | D4: 139400.8 | E4: PESOS | F4: ANUAL
A5: 2 | B5: BONO DE PERSEVERANCIA | C5: 159115.51 | D5: 114507.8 | E5: PESOS | F5: ANUAL
A6: 3 | B6: BONO DE PERSEVERANCIA | C6: 88263.94 | D6: 64721.8 | E6: PESOS | F6: ANUAL
A7: 4 | B7: BONO DE PERSEVERANCIA | C7: 51536.52 | D7: 38404.91 | E7: PESOS | F7: ANUAL
A8: 0 | B8: NINGUNA | C8: 0 | D8: 0 | E8: PESOS | F8: N/A

Sheet Tabla_352978
B1: 1 | C1: 6 | D1: 6 | E1: 1 | F1: 1
B2: 45676 | C2: 45677 | D2: 45678 | E2: 45679 | F2: 45680
A3: ID | B3: Denominación de los apoyos económicos | C3: Monto bruto de los apoyos económicos | D3: Monto neto de los apoyos económicos | E3: Tipo de moneda de los apoyos económicos | F3: Periodicidad de los apoyos económicos
A4: 1 | B4: APOYO PARA PASAJES | C4: 6365 | D4: 5256.58 | E4: PESOS | F4: MENSUAL
A5: 2 | B5: APOYO PARA PASAJES | C5: 3325 | D5: 2814.61 | E5: PESOS | F5: MENSUAL
A6: 3 | B6: APOYO PARA PASAJES | C6: 2660 | D6: 2343.39 | E6: PESOS | F6: MENSUAL
A7: 4 | B7: APOYO PARA PASAJES | C7: 2375 | D7: 2002.75 | E7: PESOS | F7: MENSUAL
A8: 5 | B8: APOYO PARA PASAJES | C8: 2185 | D8: 1809.96 | E8: PESOS | F8: MENSUAL
A9: 6 | B9: APOYO PARA PASAJES | C9: 1995 | D9: 1657.89 | E9: PESOS | F9: MENSUAL
A10: 7 | B10: APOYO PARA PASAJES | C10: 1995 | D10: 1648.45 | E10: PESOS | F10: MENSUAL
A11: 0 | B11: NINGUNA | C11: 0 | D11: 0 | E11: PESOS | F11: MENSUAL

Sheet Tabla_352975
B1: 1 | C1: 6 | D1: 6 | E1: 1 | F1: 1
B2: 45661 | C2: 45662 | D2: 45663 | E2: 45664 | F2: 45665
A3: ID | B3: Denominación de las prestaciones económicas | C3: Monto bruto de las prestaciones económicas | D3: Monto neto de las prestaciones económicas | E3: Tipo de moneda de las prestaciones económicas | F3: Periodicidad de las prestaciones económicas
A4: 0 | B4: N/A

Sheet Tabla_352979
B1: 1 | C1: 1
B2: 45681 | C2: 45682
A3: ID | B3: Descripción de las prestaciones en especie | C3: Periodicidad de las prestaciones en especie
A4: 0 | B4: N/A
